BEGIN:VCALENDAR
VERSION:2.0
PRODID:-//Woodford School Lusaka - ECPv6.15.20//NONSGML v1.0//EN
CALSCALE:GREGORIAN
METHOD:PUBLISH
X-WR-CALNAME:Woodford School Lusaka
X-ORIGINAL-URL:https://lusaka.woodfordschools.net
X-WR-CALDESC:Events for Woodford School Lusaka
REFRESH-INTERVAL;VALUE=DURATION:PT1H
X-Robots-Tag:noindex
X-PUBLISHED-TTL:PT1H
BEGIN:VTIMEZONE
TZID:Europe/Helsinki
BEGIN:DAYLIGHT
TZOFFSETFROM:+0200
TZOFFSETTO:+0300
TZNAME:EEST
DTSTART:20250330T010000
END:DAYLIGHT
BEGIN:STANDARD
TZOFFSETFROM:+0300
TZOFFSETTO:+0200
TZNAME:EET
DTSTART:20251026T010000
END:STANDARD
BEGIN:DAYLIGHT
TZOFFSETFROM:+0200
TZOFFSETTO:+0300
TZNAME:EEST
DTSTART:20260329T010000
END:DAYLIGHT
BEGIN:STANDARD
TZOFFSETFROM:+0300
TZOFFSETTO:+0200
TZNAME:EET
DTSTART:20261025T010000
END:STANDARD
BEGIN:DAYLIGHT
TZOFFSETFROM:+0200
TZOFFSETTO:+0300
TZNAME:EEST
DTSTART:20270328T010000
END:DAYLIGHT
BEGIN:STANDARD
TZOFFSETFROM:+0300
TZOFFSETTO:+0200
TZNAME:EET
DTSTART:20271031T010000
END:STANDARD
END:VTIMEZONE
BEGIN:VEVENT
DTSTART;TZID=Europe/Helsinki:20260314T080000
DTEND;TZID=Europe/Helsinki:20260314T170000
DTSTAMP:20260424T005513
CREATED:20260115T074119Z
LAST-MODIFIED:20260115T074119Z
UID:6576-1773475200-1773507600@lusaka.woodfordschools.net
SUMMARY:PTA AGM
DESCRIPTION:
URL:https://lusaka.woodfordschools.net/event/pta-agm-2/
END:VEVENT
BEGIN:VEVENT
DTSTART;TZID=Europe/Helsinki:20260312T080000
DTEND;TZID=Europe/Helsinki:20260315T170000
DTSTAMP:20260424T005513
CREATED:20260115T075010Z
LAST-MODIFIED:20260115T075010Z
UID:6590-1773302400-1773594000@lusaka.woodfordschools.net
SUMMARY:ISAZ Middle Managers Conference – Legacy Resort
DESCRIPTION:
URL:https://lusaka.woodfordschools.net/event/isaz-middle-managers-conference-legacy-resort/
END:VEVENT
BEGIN:VEVENT
DTSTART;TZID=Europe/Helsinki:20260312T080000
DTEND;TZID=Europe/Helsinki:20260312T170000
DTSTAMP:20260424T005513
CREATED:20260115T074944Z
LAST-MODIFIED:20260115T074944Z
UID:6588-1773302400-1773334800@lusaka.woodfordschools.net
SUMMARY:Public Holiday – Youth Day
DESCRIPTION:
URL:https://lusaka.woodfordschools.net/event/public-holiday-youth-day-7/
CATEGORIES:Public Holidays
END:VEVENT
BEGIN:VEVENT
DTSTART;TZID=Europe/Helsinki:20260308T080000
DTEND;TZID=Europe/Helsinki:20260308T170000
DTSTAMP:20260424T005513
CREATED:20260115T075047Z
LAST-MODIFIED:20260115T075047Z
UID:6592-1772956800-1772989200@lusaka.woodfordschools.net
SUMMARY:International Women’s Day
DESCRIPTION:
URL:https://lusaka.woodfordschools.net/event/international-womens-day/
END:VEVENT
BEGIN:VEVENT
DTSTART;TZID=Europe/Helsinki:20260307T080000
DTEND;TZID=Europe/Helsinki:20260308T170000
DTSTAMP:20260424T005513
CREATED:20260115T074143Z
LAST-MODIFIED:20260115T074143Z
UID:6578-1772870400-1772989200@lusaka.woodfordschools.net
SUMMARY:World Scholars’ Cup Regional Round to be Hosted by  RPS
DESCRIPTION:
URL:https://lusaka.woodfordschools.net/event/world-scholars-cup-regional-round-to-be-hosted-by-rps/
END:VEVENT
BEGIN:VEVENT
DTSTART;TZID=Europe/Helsinki:20260306T080000
DTEND;TZID=Europe/Helsinki:20260306T170000
DTSTAMP:20260424T005513
CREATED:20260115T074242Z
LAST-MODIFIED:20260115T074242Z
UID:6582-1772784000-1772816400@lusaka.woodfordschools.net
SUMMARY:ISAZ U9 Girls & Boys Soccer A - Italian School
DESCRIPTION:
URL:https://lusaka.woodfordschools.net/event/isaz-u9-girls-boys-soccer-a-italian-school-2/
END:VEVENT
BEGIN:VEVENT
DTSTART;TZID=Europe/Helsinki:20260306T080000
DTEND;TZID=Europe/Helsinki:20260306T170000
DTSTAMP:20260424T005513
CREATED:20260115T074221Z
LAST-MODIFIED:20260115T074221Z
UID:6580-1772784000-1772816400@lusaka.woodfordschools.net
SUMMARY:ISAZ Boys and Girls B –  Nkhwazi
DESCRIPTION:
URL:https://lusaka.woodfordschools.net/event/isaz-boys-and-girls-b-nkhwazi-2/
END:VEVENT
BEGIN:VEVENT
DTSTART;TZID=Europe/Helsinki:20260306T080000
DTEND;TZID=Europe/Helsinki:20260306T170000
DTSTAMP:20260424T005513
CREATED:20260115T074038Z
LAST-MODIFIED:20260115T074038Z
UID:6572-1772784000-1772816400@lusaka.woodfordschools.net
SUMMARY:Start of Mid-Term Break After School
DESCRIPTION:
URL:https://lusaka.woodfordschools.net/event/start-of-mid-term-break-after-school-9/
END:VEVENT
BEGIN:VEVENT
DTSTART;TZID=Europe/Helsinki:20260302T080000
DTEND;TZID=Europe/Helsinki:20260306T170000
DTSTAMP:20260424T005513
CREATED:20260115T074014Z
LAST-MODIFIED:20260115T074014Z
UID:6573-1772438400-1772816400@lusaka.woodfordschools.net
SUMMARY:Continuous Assessment 2 - Whole school
DESCRIPTION:
URL:https://lusaka.woodfordschools.net/event/continuous-assessment-2-whole-school/
END:VEVENT
BEGIN:VEVENT
DTSTART;TZID=Europe/Helsinki:20260227T080000
DTEND;TZID=Europe/Helsinki:20260227T170000
DTSTAMP:20260424T005513
CREATED:20260115T073746Z
LAST-MODIFIED:20260115T073746Z
UID:6568-1772179200-1772211600@lusaka.woodfordschools.net
SUMMARY:Educational Tour for Reception 4 Green  students
DESCRIPTION:
URL:https://lusaka.woodfordschools.net/event/educational-tour-for-reception-4-green-students-9/
END:VEVENT
BEGIN:VEVENT
DTSTART;TZID=Europe/Helsinki:20260226T080000
DTEND;TZID=Europe/Helsinki:20260226T170000
DTSTAMP:20260424T005513
CREATED:20260115T073719Z
LAST-MODIFIED:20260115T073719Z
UID:6566-1772092800-1772125200@lusaka.woodfordschools.net
SUMMARY:Educational Tour for Grade 2 Green students
DESCRIPTION:
URL:https://lusaka.woodfordschools.net/event/educational-tour-for-grade-2-green-students-13/
END:VEVENT
BEGIN:VEVENT
DTSTART;TZID=Europe/Helsinki:20260225T080000
DTEND;TZID=Europe/Helsinki:20260225T170000
DTSTAMP:20260424T005513
CREATED:20260115T073655Z
LAST-MODIFIED:20260115T073655Z
UID:6564-1772006400-1772038800@lusaka.woodfordschools.net
SUMMARY:Educational Tour for Grade 2 Blue students
DESCRIPTION:
URL:https://lusaka.woodfordschools.net/event/educational-tour-for-grade-2-blue-students-13/
END:VEVENT
BEGIN:VEVENT
DTSTART;TZID=Europe/Helsinki:20260224T080000
DTEND;TZID=Europe/Helsinki:20260224T170000
DTSTAMP:20260424T005513
CREATED:20260115T073619Z
LAST-MODIFIED:20260115T073619Z
UID:6561-1771920000-1771952400@lusaka.woodfordschools.net
SUMMARY:Creative Writing Competition
DESCRIPTION:
URL:https://lusaka.woodfordschools.net/event/creative-writing-competition/
END:VEVENT
BEGIN:VEVENT
DTSTART;TZID=Europe/Helsinki:20260221T080000
DTEND;TZID=Europe/Helsinki:20260221T170000
DTSTAMP:20260424T005513
CREATED:20260115T073556Z
LAST-MODIFIED:20260115T073556Z
UID:6559-1771660800-1771693200@lusaka.woodfordschools.net
SUMMARY:ISAZ U13 & U19 Boy & Girls Chess - Rhodes Park
DESCRIPTION:
URL:https://lusaka.woodfordschools.net/event/isaz-u13-u19-boy-girls-chess-rhodes-park/
END:VEVENT
BEGIN:VEVENT
DTSTART;TZID=Europe/Helsinki:20260220T080000
DTEND;TZID=Europe/Helsinki:20260220T170000
DTSTAMP:20260424T005513
CREATED:20260115T070933Z
LAST-MODIFIED:20260115T070933Z
UID:6556-1771574400-1771606800@lusaka.woodfordschools.net
SUMMARY:ISAZ U11 Soccer Girls and Boys
DESCRIPTION:
URL:https://lusaka.woodfordschools.net/event/isaz-u11-soccer-girls-and-boys/
END:VEVENT
BEGIN:VEVENT
DTSTART;TZID=Europe/Helsinki:20260220T080000
DTEND;TZID=Europe/Helsinki:20260220T170000
DTSTAMP:20260424T005513
CREATED:20260115T070857Z
LAST-MODIFIED:20260115T070857Z
UID:6554-1771574400-1771606800@lusaka.woodfordschools.net
SUMMARY:PTA - Civilian Day - Free Style
DESCRIPTION:
URL:https://lusaka.woodfordschools.net/event/pta-civilian-day-free-style-4/
END:VEVENT
BEGIN:VEVENT
DTSTART;TZID=Europe/Helsinki:20260219T080000
DTEND;TZID=Europe/Helsinki:20260219T170000
DTSTAMP:20260424T005513
CREATED:20260115T070828Z
LAST-MODIFIED:20260115T070828Z
UID:6552-1771488000-1771520400@lusaka.woodfordschools.net
SUMMARY:Section CPDs
DESCRIPTION:
URL:https://lusaka.woodfordschools.net/event/section-cpds/
END:VEVENT
BEGIN:VEVENT
DTSTART;TZID=Europe/Helsinki:20260218T080000
DTEND;TZID=Europe/Helsinki:20260218T170000
DTSTAMP:20260424T005513
CREATED:20260115T070804Z
LAST-MODIFIED:20260115T070804Z
UID:6550-1771401600-1771434000@lusaka.woodfordschools.net
SUMMARY:Educational Tour for Grade 7 Green students
DESCRIPTION:
URL:https://lusaka.woodfordschools.net/event/educational-tour-for-grade-7-green-students-7/
END:VEVENT
BEGIN:VEVENT
DTSTART;TZID=Europe/Helsinki:20260217T080000
DTEND;TZID=Europe/Helsinki:20260217T170000
DTSTAMP:20260424T005513
CREATED:20260115T070740Z
LAST-MODIFIED:20260115T070740Z
UID:6548-1771315200-1771347600@lusaka.woodfordschools.net
SUMMARY:Educational Tour for Grade 7 Blue Students
DESCRIPTION:
URL:https://lusaka.woodfordschools.net/event/educational-tour-for-grade-7-blue-students-8/
END:VEVENT
BEGIN:VEVENT
DTSTART;TZID=Europe/Helsinki:20260214T080000
DTEND;TZID=Europe/Helsinki:20260214T170000
DTSTAMP:20260424T005513
CREATED:20260115T070707Z
LAST-MODIFIED:20260115T070707Z
UID:6546-1771056000-1771088400@lusaka.woodfordschools.net
SUMMARY:Cross Country (U9\, U11\, U13) - Musikili
DESCRIPTION:
URL:https://lusaka.woodfordschools.net/event/cross-country-u9-u11-u13-musikili-2/
END:VEVENT
BEGIN:VEVENT
DTSTART;TZID=Europe/Helsinki:20260213T080000
DTEND;TZID=Europe/Helsinki:20260213T170000
DTSTAMP:20260424T005513
CREATED:20260115T070609Z
LAST-MODIFIED:20260115T070609Z
UID:6544-1770969600-1771002000@lusaka.woodfordschools.net
SUMMARY:Parent–Teacher Consultations
DESCRIPTION:
URL:https://lusaka.woodfordschools.net/event/parent-teacher-consultations/
END:VEVENT
BEGIN:VEVENT
DTSTART;TZID=Europe/Helsinki:20260213T080000
DTEND;TZID=Europe/Helsinki:20260213T170000
DTSTAMP:20260424T005513
CREATED:20260115T070506Z
LAST-MODIFIED:20260115T070506Z
UID:6542-1770969600-1771002000@lusaka.woodfordschools.net
SUMMARY:Deadline for submission of Draft copies of End of Term 1 Examinations
DESCRIPTION:
URL:https://lusaka.woodfordschools.net/event/deadline-for-submission-of-draft-copies-of-end-of-term-1-examinations-4/
END:VEVENT
BEGIN:VEVENT
DTSTART;TZID=Europe/Helsinki:20260213T080000
DTEND;TZID=Europe/Helsinki:20260213T170000
DTSTAMP:20260424T005513
CREATED:20260115T070421Z
LAST-MODIFIED:20260115T070421Z
UID:6540-1770969600-1771002000@lusaka.woodfordschools.net
SUMMARY:U9 – U13 Junior Gala – Division A – Musikili
DESCRIPTION:
URL:https://lusaka.woodfordschools.net/event/u9-u13-junior-gala-division-a-musikili/
END:VEVENT
BEGIN:VEVENT
DTSTART;TZID=Europe/Helsinki:20260212T080000
DTEND;TZID=Europe/Helsinki:20260212T170000
DTSTAMP:20260424T005513
CREATED:20260115T065856Z
LAST-MODIFIED:20260115T065900Z
UID:6526-1770883200-1770915600@lusaka.woodfordschools.net
SUMMARY:Educational Tour for Grade 7 Green students
DESCRIPTION:
URL:https://lusaka.woodfordschools.net/event/educational-tour-for-grade-7-green-students-6/
END:VEVENT
BEGIN:VEVENT
DTSTART;TZID=Europe/Helsinki:20260211T080000
DTEND;TZID=Europe/Helsinki:20260211T170000
DTSTAMP:20260424T005513
CREATED:20260115T065927Z
LAST-MODIFIED:20260115T065927Z
UID:6528-1770796800-1770829200@lusaka.woodfordschools.net
SUMMARY:Educational Tour for Grade  7 Blue Students
DESCRIPTION:
URL:https://lusaka.woodfordschools.net/event/educational-tour-for-grade-7-blue-students-7/
END:VEVENT
BEGIN:VEVENT
DTSTART;TZID=Europe/Helsinki:20260210T080000
DTEND;TZID=Europe/Helsinki:20260210T170000
DTSTAMP:20260424T005513
CREATED:20260115T065955Z
LAST-MODIFIED:20260115T065955Z
UID:6530-1770710400-1770742800@lusaka.woodfordschools.net
SUMMARY:Educational Tour for Grade 5 Green Students
DESCRIPTION:
URL:https://lusaka.woodfordschools.net/event/educational-tour-for-grade-5-green-students-8/
END:VEVENT
BEGIN:VEVENT
DTSTART;TZID=Europe/Helsinki:20260209T080000
DTEND;TZID=Europe/Helsinki:20260209T170000
DTSTAMP:20260424T005513
CREATED:20260115T070022Z
LAST-MODIFIED:20260115T070022Z
UID:6532-1770624000-1770656400@lusaka.woodfordschools.net
SUMMARY:Educational Tour for Grade 5 Blue students
DESCRIPTION:
URL:https://lusaka.woodfordschools.net/event/educational-tour-for-grade-5-blue-students-11/
END:VEVENT
BEGIN:VEVENT
DTSTART;TZID=Europe/Helsinki:20260204T080000
DTEND;TZID=Europe/Helsinki:20260204T170000
DTSTAMP:20260424T005513
CREATED:20260115T070052Z
LAST-MODIFIED:20260115T070052Z
UID:6534-1770192000-1770224400@lusaka.woodfordschools.net
SUMMARY:Scouts Movement and Girl Guides – Out Reach
DESCRIPTION:
URL:https://lusaka.woodfordschools.net/event/scouts-movement-and-girl-guides-out-reach/
END:VEVENT
BEGIN:VEVENT
DTSTART;TZID=Europe/Helsinki:20260203T080000
DTEND;TZID=Europe/Helsinki:20260203T170000
DTSTAMP:20260424T005513
CREATED:20260115T070143Z
LAST-MODIFIED:20260115T070143Z
UID:6536-1770105600-1770138000@lusaka.woodfordschools.net
SUMMARY:Educational Tour for Grade 4 Green Students
DESCRIPTION:
URL:https://lusaka.woodfordschools.net/event/educational-tour-for-grade-4-green-students-14/
END:VEVENT
BEGIN:VEVENT
DTSTART;TZID=Europe/Helsinki:20260202T080000
DTEND;TZID=Europe/Helsinki:20260206T170000
DTSTAMP:20260424T005513
CREATED:20260115T070218Z
LAST-MODIFIED:20260115T070218Z
UID:6538-1770019200-1770397200@lusaka.woodfordschools.net
SUMMARY:Continuous Assessment 1 - Whole school
DESCRIPTION:
URL:https://lusaka.woodfordschools.net/event/continuous-assessment-1-whole-school/
END:VEVENT
END:VCALENDAR