BEGIN:VCALENDAR
VERSION:2.0
PRODID:-//Woodford School Lusaka - ECPv6.15.20//NONSGML v1.0//EN
CALSCALE:GREGORIAN
METHOD:PUBLISH
X-WR-CALNAME:Woodford School Lusaka
X-ORIGINAL-URL:https://lusaka.woodfordschools.net
X-WR-CALDESC:Events for Woodford School Lusaka
REFRESH-INTERVAL;VALUE=DURATION:PT1H
X-Robots-Tag:noindex
X-PUBLISHED-TTL:PT1H
BEGIN:VTIMEZONE
TZID:Europe/Helsinki
BEGIN:DAYLIGHT
TZOFFSETFROM:+0200
TZOFFSETTO:+0300
TZNAME:EEST
DTSTART:20240331T010000
END:DAYLIGHT
BEGIN:STANDARD
TZOFFSETFROM:+0300
TZOFFSETTO:+0200
TZNAME:EET
DTSTART:20241027T010000
END:STANDARD
BEGIN:DAYLIGHT
TZOFFSETFROM:+0200
TZOFFSETTO:+0300
TZNAME:EEST
DTSTART:20250330T010000
END:DAYLIGHT
BEGIN:STANDARD
TZOFFSETFROM:+0300
TZOFFSETTO:+0200
TZNAME:EET
DTSTART:20251026T010000
END:STANDARD
BEGIN:DAYLIGHT
TZOFFSETFROM:+0200
TZOFFSETTO:+0300
TZNAME:EEST
DTSTART:20260329T010000
END:DAYLIGHT
BEGIN:STANDARD
TZOFFSETFROM:+0300
TZOFFSETTO:+0200
TZNAME:EET
DTSTART:20261025T010000
END:STANDARD
BEGIN:DAYLIGHT
TZOFFSETFROM:+0200
TZOFFSETTO:+0300
TZNAME:EEST
DTSTART:20270328T010000
END:DAYLIGHT
BEGIN:STANDARD
TZOFFSETFROM:+0300
TZOFFSETTO:+0200
TZNAME:EET
DTSTART:20271031T010000
END:STANDARD
END:VTIMEZONE
BEGIN:VEVENT
DTSTART;TZID=Europe/Helsinki:20260123T080000
DTEND;TZID=Europe/Helsinki:20260123T170000
DTSTAMP:20260424T084731
CREATED:20260115T065339Z
LAST-MODIFIED:20260115T065339Z
UID:6514-1769155200-1769187600@lusaka.woodfordschools.net
SUMMARY:Woodford School Lusaka Literacy and Numeracy Tests
DESCRIPTION:
URL:https://lusaka.woodfordschools.net/event/woodford-school-lusaka-literacy-and-numeracy-tests/
END:VEVENT
BEGIN:VEVENT
DTSTART;TZID=Europe/Helsinki:20260123T080000
DTEND;TZID=Europe/Helsinki:20260123T170000
DTSTAMP:20260424T084731
CREATED:20260115T065257Z
LAST-MODIFIED:20260115T065257Z
UID:6512-1769155200-1769187600@lusaka.woodfordschools.net
SUMMARY:Junior and Senior Relay Gala – AISL
DESCRIPTION:
URL:https://lusaka.woodfordschools.net/event/junior-and-senior-relay-gala-aisl/
END:VEVENT
BEGIN:VEVENT
DTSTART;TZID=Europe/Helsinki:20260120T080000
DTEND;TZID=Europe/Helsinki:20260120T170000
DTSTAMP:20260424T084731
CREATED:20260115T065216Z
LAST-MODIFIED:20260115T065216Z
UID:6510-1768896000-1768928400@lusaka.woodfordschools.net
SUMMARY:Start of Extra Curricular Activities
DESCRIPTION:
URL:https://lusaka.woodfordschools.net/event/start-of-extra-curricular-activities-2/
END:VEVENT
BEGIN:VEVENT
DTSTART;TZID=Europe/Helsinki:20260120T080000
DTEND;TZID=Europe/Helsinki:20260120T170000
DTSTAMP:20260424T084731
CREATED:20260115T065136Z
LAST-MODIFIED:20260115T065136Z
UID:6508-1768896000-1768928400@lusaka.woodfordschools.net
SUMMARY:Educational Tour for Grade 1 Green Students
DESCRIPTION:
URL:https://lusaka.woodfordschools.net/event/educational-tour-for-grade-1-green-students-15/
END:VEVENT
BEGIN:VEVENT
DTSTART;TZID=Europe/Helsinki:20260119T080000
DTEND;TZID=Europe/Helsinki:20260119T170000
DTSTAMP:20260424T084731
CREATED:20260115T065112Z
LAST-MODIFIED:20260115T065112Z
UID:6506-1768809600-1768842000@lusaka.woodfordschools.net
SUMMARY:Educational Tour for Grade 1 Blue Students
DESCRIPTION:
URL:https://lusaka.woodfordschools.net/event/educational-tour-for-grade-1-blue-students-16/
END:VEVENT
BEGIN:VEVENT
DTSTART;TZID=Europe/Helsinki:20260119T080000
DTEND;TZID=Europe/Helsinki:20260119T170000
DTSTAMP:20260424T084731
CREATED:20260115T064948Z
LAST-MODIFIED:20260115T064948Z
UID:6504-1768809600-1768842000@lusaka.woodfordschools.net
SUMMARY:Start of Remedial Lessons and Afternoon Lessons for Grades 4\, 5 and 6.
DESCRIPTION:
URL:https://lusaka.woodfordschools.net/event/start-of-remedial-lessons-and-afternoon-lessons-for-grades-4-5-and-6/
END:VEVENT
BEGIN:VEVENT
DTSTART;TZID=Europe/Helsinki:20260117T080000
DTEND;TZID=Europe/Helsinki:20260117T170000
DTSTAMP:20260424T084731
CREATED:20260115T064913Z
LAST-MODIFIED:20260115T064913Z
UID:6502-1768636800-1768669200@lusaka.woodfordschools.net
SUMMARY:ISZA Sports Conference – Martin House
DESCRIPTION:
URL:https://lusaka.woodfordschools.net/event/isza-sports-conference-martin-house/
END:VEVENT
BEGIN:VEVENT
DTSTART;TZID=Europe/Helsinki:20260116T080000
DTEND;TZID=Europe/Helsinki:20260116T170000
DTSTAMP:20260424T084731
CREATED:20260115T064708Z
LAST-MODIFIED:20260115T064708Z
UID:6500-1768550400-1768582800@lusaka.woodfordschools.net
SUMMARY:Head Teacher’s Meeting with Parents of All New Students
DESCRIPTION:
URL:https://lusaka.woodfordschools.net/event/head-teachers-meeting-with-parents-of-all-new-students-5/
END:VEVENT
BEGIN:VEVENT
DTSTART;TZID=Europe/Helsinki:20260115T170000
DTEND;TZID=Europe/Helsinki:20260115T180000
DTSTAMP:20260424T084731
CREATED:20260115T064452Z
LAST-MODIFIED:20260115T064452Z
UID:6498-1768496400-1768500000@lusaka.woodfordschools.net
SUMMARY:Academic Team’s Meeting with Parents of Grade 4- 7 Students
DESCRIPTION:
URL:https://lusaka.woodfordschools.net/event/academic-teams-meeting-with-parents-of-grade-4-7-students/
END:VEVENT
BEGIN:VEVENT
DTSTART;TZID=Europe/Helsinki:20260115T080000
DTEND;TZID=Europe/Helsinki:20260115T170000
DTSTAMP:20260424T084731
CREATED:20260115T073817Z
LAST-MODIFIED:20260115T073817Z
UID:6570-1768464000-1768496400@lusaka.woodfordschools.net
SUMMARY:ISAZ Southern Region STEM Teachers Conference – Italian School
DESCRIPTION:
URL:https://lusaka.woodfordschools.net/event/isaz-southern-region-stem-teachers-conference-italian-school/
END:VEVENT
BEGIN:VEVENT
DTSTART;TZID=Europe/Helsinki:20260114T140000
DTEND;TZID=Europe/Helsinki:20260114T170000
DTSTAMP:20260424T084731
CREATED:20260115T064134Z
LAST-MODIFIED:20260115T064134Z
UID:6494-1768399200-1768410000@lusaka.woodfordschools.net
SUMMARY:Start of Afternoon Lessons for Grade 7 Students
DESCRIPTION:
URL:https://lusaka.woodfordschools.net/event/start-of-afternoon-lessons-for-grade-7-students-7/
END:VEVENT
BEGIN:VEVENT
DTSTART;TZID=Europe/Helsinki:20260114T080000
DTEND;TZID=Europe/Helsinki:20260114T170000
DTSTAMP:20260424T084731
CREATED:20260115T064221Z
LAST-MODIFIED:20260115T064221Z
UID:6496-1768377600-1768410000@lusaka.woodfordschools.net
SUMMARY:Academic Team’s Meeting with Parents of Reception  and Grade 1- 3 Students
DESCRIPTION:
URL:https://lusaka.woodfordschools.net/event/academic-teams-meeting-with-parents-of-reception-and-grade-1-3-students/
END:VEVENT
BEGIN:VEVENT
DTSTART;TZID=Europe/Helsinki:20260113T080000
DTEND;TZID=Europe/Helsinki:20260113T170000
DTSTAMP:20260424T084731
CREATED:20260115T064054Z
LAST-MODIFIED:20260115T064054Z
UID:6492-1768291200-1768323600@lusaka.woodfordschools.net
SUMMARY:School Opening Day
DESCRIPTION:
URL:https://lusaka.woodfordschools.net/event/school-opening-day-8/
END:VEVENT
BEGIN:VEVENT
DTSTART;TZID=Europe/Helsinki:20260113T080000
DTEND;TZID=Europe/Helsinki:20260113T170000
DTSTAMP:20260424T084731
CREATED:20260105T124621Z
LAST-MODIFIED:20260105T132748Z
UID:6475-1768291200-1768323600@lusaka.woodfordschools.net
SUMMARY:School Opening Day - Term 1
DESCRIPTION:
URL:https://lusaka.woodfordschools.net/event/school-opening-day-term-1/
END:VEVENT
BEGIN:VEVENT
DTSTART;TZID=Europe/Helsinki:20260109T080000
DTEND;TZID=Europe/Helsinki:20260109T170000
DTSTAMP:20260424T084731
CREATED:20260115T064008Z
LAST-MODIFIED:20260115T064008Z
UID:6490-1767945600-1767978000@lusaka.woodfordschools.net
SUMMARY:Inspection of Classroom Charts
DESCRIPTION:
URL:https://lusaka.woodfordschools.net/event/inspection-of-classroom-charts/
END:VEVENT
BEGIN:VEVENT
DTSTART;TZID=Europe/Helsinki:20260102T140000
DTEND;TZID=Europe/Helsinki:20260102T170000
DTSTAMP:20260424T084731
CREATED:20260115T063657Z
LAST-MODIFIED:20260115T063657Z
UID:6486-1767362400-1767373200@lusaka.woodfordschools.net
SUMMARY:Academic Management Meeting
DESCRIPTION:
URL:https://lusaka.woodfordschools.net/event/academic-management-meeting/
END:VEVENT
BEGIN:VEVENT
DTSTART;TZID=Europe/Helsinki:20251205T080000
DTEND;TZID=Europe/Helsinki:20251205T170000
DTSTAMP:20260424T084731
CREATED:20250911T072913Z
LAST-MODIFIED:20250911T072913Z
UID:6449-1764921600-1764954000@lusaka.woodfordschools.net
SUMMARY:Parent–Teacher Conferences
DESCRIPTION:
URL:https://lusaka.woodfordschools.net/event/parent-teacher-conferences-7/
END:VEVENT
BEGIN:VEVENT
DTSTART;TZID=Europe/Helsinki:20251205T080000
DTEND;TZID=Europe/Helsinki:20251205T170000
DTSTAMP:20260424T084731
CREATED:20250911T072827Z
LAST-MODIFIED:20250911T072827Z
UID:6447-1764921600-1764954000@lusaka.woodfordschools.net
SUMMARY:School closes for December Vacation
DESCRIPTION:
URL:https://lusaka.woodfordschools.net/event/school-closes-for-december-vacation-7/
END:VEVENT
BEGIN:VEVENT
DTSTART;TZID=Europe/Helsinki:20251204T140000
DTEND;TZID=Europe/Helsinki:20251204T170000
DTSTAMP:20260424T084731
CREATED:20250911T072802Z
LAST-MODIFIED:20250911T072802Z
UID:6445-1764856800-1764867600@lusaka.woodfordschools.net
SUMMARY:Staff End of Year Overview meeting
DESCRIPTION:
URL:https://lusaka.woodfordschools.net/event/staff-end-of-year-overview-meeting/
END:VEVENT
BEGIN:VEVENT
DTSTART;TZID=Europe/Helsinki:20251204T080000
DTEND;TZID=Europe/Helsinki:20251204T170000
DTSTAMP:20260424T084731
CREATED:20250911T072725Z
LAST-MODIFIED:20250911T072725Z
UID:6443-1764835200-1764867600@lusaka.woodfordschools.net
SUMMARY:Students close
DESCRIPTION:
URL:https://lusaka.woodfordschools.net/event/students-close-4/
END:VEVENT
BEGIN:VEVENT
DTSTART;TZID=Europe/Helsinki:20251126T080000
DTEND;TZID=Europe/Helsinki:20251126T170000
DTSTAMP:20260424T084731
CREATED:20250911T072656Z
LAST-MODIFIED:20250911T072656Z
UID:6441-1764144000-1764176400@lusaka.woodfordschools.net
SUMMARY:Christmas Carol Service
DESCRIPTION:
URL:https://lusaka.woodfordschools.net/event/christmas-carol-service-6/
END:VEVENT
BEGIN:VEVENT
DTSTART;TZID=Europe/Helsinki:20251121T080000
DTEND;TZID=Europe/Helsinki:20251121T170000
DTSTAMP:20260424T084731
CREATED:20250911T072614Z
LAST-MODIFIED:20250911T072614Z
UID:6439-1763712000-1763744400@lusaka.woodfordschools.net
SUMMARY:ISAZ  Coaches/ PE Staff National Conference – Solwezi
DESCRIPTION:
URL:https://lusaka.woodfordschools.net/event/isaz-coaches-pe-staff-national-conference-solwezi/
END:VEVENT
BEGIN:VEVENT
DTSTART;TZID=Europe/Helsinki:20251119T080000
DTEND;TZID=Europe/Helsinki:20251119T170000
DTSTAMP:20260424T084731
CREATED:20250911T072541Z
LAST-MODIFIED:20250911T072541Z
UID:6437-1763539200-1763571600@lusaka.woodfordschools.net
SUMMARY:Christmas Carol Dress Rehearsal
DESCRIPTION:
URL:https://lusaka.woodfordschools.net/event/christmas-carol-dress-rehearsal-4/
END:VEVENT
BEGIN:VEVENT
DTSTART;TZID=Europe/Helsinki:20251114T080000
DTEND;TZID=Europe/Helsinki:20251114T170000
DTSTAMP:20260424T084731
CREATED:20250911T072512Z
LAST-MODIFIED:20250911T072512Z
UID:6435-1763107200-1763139600@lusaka.woodfordschools.net
SUMMARY:Transitional examinations end
DESCRIPTION:
URL:https://lusaka.woodfordschools.net/event/transitional-examinations-end-5/
END:VEVENT
BEGIN:VEVENT
DTSTART;TZID=Europe/Helsinki:20251111T080000
DTEND;TZID=Europe/Helsinki:20251111T170000
DTSTAMP:20260424T084731
CREATED:20250911T072450Z
LAST-MODIFIED:20250911T072450Z
UID:6433-1762848000-1762880400@lusaka.woodfordschools.net
SUMMARY:Folotiya Memorial Scholarship Awards
DESCRIPTION:
URL:https://lusaka.woodfordschools.net/event/folotiya-memorial-scholarship-awards/
END:VEVENT
BEGIN:VEVENT
DTSTART;TZID=Europe/Helsinki:20251110T080000
DTEND;TZID=Europe/Helsinki:20251110T170000
DTSTAMP:20260424T084731
CREATED:20250911T072331Z
LAST-MODIFIED:20250911T072331Z
UID:6431-1762761600-1762794000@lusaka.woodfordschools.net
SUMMARY:Start of Transitional Examinations
DESCRIPTION:
URL:https://lusaka.woodfordschools.net/event/start-of-transitional-examinations-3/
END:VEVENT
BEGIN:VEVENT
DTSTART;TZID=Europe/Helsinki:20251108T080000
DTEND;TZID=Europe/Helsinki:20251108T170000
DTSTAMP:20260424T084731
CREATED:20250911T072259Z
LAST-MODIFIED:20250911T072259Z
UID:6429-1762588800-1762621200@lusaka.woodfordschools.net
SUMMARY:ISAZ U11 Basketball Division B – Italian
DESCRIPTION:
URL:https://lusaka.woodfordschools.net/event/isaz-u11-basketball-division-b-italian/
END:VEVENT
BEGIN:VEVENT
DTSTART;TZID=Europe/Helsinki:20251108T080000
DTEND;TZID=Europe/Helsinki:20251108T170000
DTSTAMP:20260424T084731
CREATED:20250911T072220Z
LAST-MODIFIED:20250911T072220Z
UID:6427-1762588800-1762621200@lusaka.woodfordschools.net
SUMMARY:WSLsk Football Club vs RPS Football Club - WSLsk
DESCRIPTION:
URL:https://lusaka.woodfordschools.net/event/wslsk-football-club-vs-rps-football-club-wslsk/
END:VEVENT
BEGIN:VEVENT
DTSTART;TZID=Europe/Helsinki:20251107T080000
DTEND;TZID=Europe/Helsinki:20251107T170000
DTSTAMP:20260424T084731
CREATED:20250911T072156Z
LAST-MODIFIED:20250911T072156Z
UID:6425-1762502400-1762534800@lusaka.woodfordschools.net
SUMMARY:ISAZ U7 – U11 Jr. Gala Round 2 - Baobab
DESCRIPTION:
URL:https://lusaka.woodfordschools.net/event/isaz-u7-u11-jr-gala-round-2-baobab/
END:VEVENT
BEGIN:VEVENT
DTSTART;TZID=Europe/Helsinki:20251104T080000
DTEND;TZID=Europe/Helsinki:20251104T170000
DTSTAMP:20260424T084731
CREATED:20250911T072122Z
LAST-MODIFIED:20250911T072122Z
UID:6423-1762243200-1762275600@lusaka.woodfordschools.net
SUMMARY:Grade 1 Entrance Test for Reception 4 students
DESCRIPTION:
URL:https://lusaka.woodfordschools.net/event/grade-1-entrance-test-for-reception-4-students-4/
END:VEVENT
END:VCALENDAR