BEGIN:VCALENDAR
VERSION:2.0
PRODID:-//Woodford School Lusaka - ECPv6.15.20//NONSGML v1.0//EN
CALSCALE:GREGORIAN
METHOD:PUBLISH
X-ORIGINAL-URL:https://lusaka.woodfordschools.net
X-WR-CALDESC:Events for Woodford School Lusaka
REFRESH-INTERVAL;VALUE=DURATION:PT1H
X-Robots-Tag:noindex
X-PUBLISHED-TTL:PT1H
BEGIN:VTIMEZONE
TZID:Europe/Helsinki
BEGIN:DAYLIGHT
TZOFFSETFROM:+0200
TZOFFSETTO:+0300
TZNAME:EEST
DTSTART:20250330T010000
END:DAYLIGHT
BEGIN:STANDARD
TZOFFSETFROM:+0300
TZOFFSETTO:+0200
TZNAME:EET
DTSTART:20251026T010000
END:STANDARD
BEGIN:DAYLIGHT
TZOFFSETFROM:+0200
TZOFFSETTO:+0300
TZNAME:EEST
DTSTART:20260329T010000
END:DAYLIGHT
BEGIN:STANDARD
TZOFFSETFROM:+0300
TZOFFSETTO:+0200
TZNAME:EET
DTSTART:20261025T010000
END:STANDARD
BEGIN:DAYLIGHT
TZOFFSETFROM:+0200
TZOFFSETTO:+0300
TZNAME:EEST
DTSTART:20270328T010000
END:DAYLIGHT
BEGIN:STANDARD
TZOFFSETFROM:+0300
TZOFFSETTO:+0200
TZNAME:EET
DTSTART:20271031T010000
END:STANDARD
END:VTIMEZONE
BEGIN:VEVENT
DTSTART;TZID=Europe/Helsinki:20260312T080000
DTEND;TZID=Europe/Helsinki:20260315T170000
DTSTAMP:20260424T021059
CREATED:20260115T075010Z
LAST-MODIFIED:20260115T075010Z
UID:6590-1773302400-1773594000@lusaka.woodfordschools.net
SUMMARY:ISAZ Middle Managers Conference – Legacy Resort
DESCRIPTION:
URL:https://lusaka.woodfordschools.net/event/isaz-middle-managers-conference-legacy-resort/
END:VEVENT
BEGIN:VEVENT
DTSTART;TZID=Europe/Helsinki:20260314T080000
DTEND;TZID=Europe/Helsinki:20260314T170000
DTSTAMP:20260424T021059
CREATED:20260115T074119Z
LAST-MODIFIED:20260115T074119Z
UID:6576-1773475200-1773507600@lusaka.woodfordschools.net
SUMMARY:PTA AGM
DESCRIPTION:
URL:https://lusaka.woodfordschools.net/event/pta-agm-2/
END:VEVENT
BEGIN:VEVENT
DTSTART;TZID=Europe/Helsinki:20260316T080000
DTEND;TZID=Europe/Helsinki:20260316T170000
DTSTAMP:20260424T021059
CREATED:20260115T074924Z
LAST-MODIFIED:20260115T074924Z
UID:6584-1773648000-1773680400@lusaka.woodfordschools.net
SUMMARY:Students Return from Mid-Term Break
DESCRIPTION:
URL:https://lusaka.woodfordschools.net/event/students-return-from-mid-term-break-4/
END:VEVENT
BEGIN:VEVENT
DTSTART;TZID=Europe/Helsinki:20260316T080000
DTEND;TZID=Europe/Helsinki:20260320T170000
DTSTAMP:20260424T021059
CREATED:20260115T074902Z
LAST-MODIFIED:20260115T074902Z
UID:6585-1773648000-1774026000@lusaka.woodfordschools.net
SUMMARY:Reading Assessment Week
DESCRIPTION:
URL:https://lusaka.woodfordschools.net/event/reading-assessment-week-8/
END:VEVENT
BEGIN:VEVENT
DTSTART;TZID=Europe/Helsinki:20260317T080000
DTEND;TZID=Europe/Helsinki:20260317T170000
DTSTAMP:20260424T021059
CREATED:20260115T075231Z
LAST-MODIFIED:20260115T075231Z
UID:6595-1773734400-1773766800@lusaka.woodfordschools.net
SUMMARY:Big Sports Day – Inter House Cross Country – ELC
DESCRIPTION:
URL:https://lusaka.woodfordschools.net/event/big-sports-day-inter-house-cross-country-elc-3/
END:VEVENT
BEGIN:VEVENT
DTSTART;TZID=Europe/Helsinki:20260318T080000
DTEND;TZID=Europe/Helsinki:20260318T170000
DTSTAMP:20260424T021059
CREATED:20260115T075247Z
LAST-MODIFIED:20260115T075247Z
UID:6594-1773820800-1773853200@lusaka.woodfordschools.net
SUMMARY:Big Sports Day – Inter House Cross Country – Primary
DESCRIPTION:
URL:https://lusaka.woodfordschools.net/event/big-sports-day-inter-house-cross-country-primary-3/
END:VEVENT
BEGIN:VEVENT
DTSTART;TZID=Europe/Helsinki:20260320T080000
DTEND;TZID=Europe/Helsinki:20260320T170000
DTSTAMP:20260424T021059
CREATED:20260115T075308Z
LAST-MODIFIED:20260115T075308Z
UID:6598-1773993600-1774026000@lusaka.woodfordschools.net
SUMMARY:Parent–Teacher Consultations
DESCRIPTION:
URL:https://lusaka.woodfordschools.net/event/parent-teacher-consultations-2/
END:VEVENT
BEGIN:VEVENT
DTSTART;TZID=Europe/Helsinki:20260320T080000
DTEND;TZID=Europe/Helsinki:20260320T170000
DTSTAMP:20260424T021059
CREATED:20260115T075344Z
LAST-MODIFIED:20260115T075344Z
UID:6600-1773993600-1774026000@lusaka.woodfordschools.net
SUMMARY:Educational Tour for Reception 2 and 3  Students
DESCRIPTION:
URL:https://lusaka.woodfordschools.net/event/educational-tour-for-reception-2-and-3-students/
END:VEVENT
BEGIN:VEVENT
DTSTART;TZID=Europe/Helsinki:20260320T080000
DTEND;TZID=Europe/Helsinki:20260320T170000
DTSTAMP:20260424T021059
CREATED:20260115T075409Z
LAST-MODIFIED:20260115T075409Z
UID:6602-1773993600-1774026000@lusaka.woodfordschools.net
SUMMARY:Tennis - U13 Girls & Boys – AISL
DESCRIPTION:
URL:https://lusaka.woodfordschools.net/event/tennis-u13-girls-boys-aisl-2/
END:VEVENT
BEGIN:VEVENT
DTSTART;TZID=Europe/Helsinki:20260320T080000
DTEND;TZID=Europe/Helsinki:20260320T170000
DTSTAMP:20260424T021059
CREATED:20260115T075437Z
LAST-MODIFIED:20260115T075437Z
UID:6604-1773993600-1774026000@lusaka.woodfordschools.net
SUMMARY:Deadline for printing Grade 7 End of Term 1 Examinations
DESCRIPTION:
URL:https://lusaka.woodfordschools.net/event/deadline-for-printing-grade-7-end-of-term-1-examinations-5/
END:VEVENT
BEGIN:VEVENT
DTSTART;TZID=Europe/Helsinki:20260320T080000
DTEND;TZID=Europe/Helsinki:20260320T170000
DTSTAMP:20260424T021059
CREATED:20260115T075455Z
LAST-MODIFIED:20260115T075455Z
UID:6606-1773993600-1774026000@lusaka.woodfordschools.net
SUMMARY:Departmental CPDs
DESCRIPTION:
URL:https://lusaka.woodfordschools.net/event/departmental-cpds/
END:VEVENT
BEGIN:VEVENT
DTSTART;TZID=Europe/Helsinki:20260321T080000
DTEND;TZID=Europe/Helsinki:20260321T170000
DTSTAMP:20260424T021059
CREATED:20260115T075521Z
LAST-MODIFIED:20260115T075521Z
UID:6608-1774080000-1774112400@lusaka.woodfordschools.net
SUMMARY:U13 Soccer Boys & Girls B – RPS
DESCRIPTION:
URL:https://lusaka.woodfordschools.net/event/u13-soccer-boys-girls-b-rps-2/
END:VEVENT
BEGIN:VEVENT
DTSTART;TZID=Europe/Helsinki:20260321T080000
DTEND;TZID=Europe/Helsinki:20260321T170000
DTSTAMP:20260424T021059
CREATED:20260115T075551Z
LAST-MODIFIED:20260115T075551Z
UID:6610-1774080000-1774112400@lusaka.woodfordschools.net
SUMMARY:U13 Soccer Boys & Girls A – ISL
DESCRIPTION:
URL:https://lusaka.woodfordschools.net/event/u13-soccer-boys-girls-a-isl-2/
END:VEVENT
BEGIN:VEVENT
DTSTART;TZID=Europe/Helsinki:20260323T080000
DTEND;TZID=Europe/Helsinki:20260327T170000
DTSTAMP:20260424T021059
CREATED:20260115T075643Z
LAST-MODIFIED:20260115T075643Z
UID:6612-1774252800-1774630800@lusaka.woodfordschools.net
SUMMARY:Continuous Assessment 3 / End of Term 1 Exam G7 Students
DESCRIPTION:
URL:https://lusaka.woodfordschools.net/event/continuous-assessment-3-end-of-term-1-exam-g7-students/
END:VEVENT
BEGIN:VEVENT
DTSTART;TZID=Europe/Helsinki:20260326T080000
DTEND;TZID=Europe/Helsinki:20260326T170000
DTSTAMP:20260424T021059
CREATED:20260115T075753Z
LAST-MODIFIED:20260115T075753Z
UID:6614-1774512000-1774544400@lusaka.woodfordschools.net
SUMMARY:Deadline for submission of Report Forms for Editing
DESCRIPTION:
URL:https://lusaka.woodfordschools.net/event/deadline-for-submission-of-report-forms-for-editing/
END:VEVENT
BEGIN:VEVENT
DTSTART;TZID=Europe/Helsinki:20260326T080000
DTEND;TZID=Europe/Helsinki:20260326T170000
DTSTAMP:20260424T021059
CREATED:20260115T075818Z
LAST-MODIFIED:20260115T075818Z
UID:6616-1774512000-1774544400@lusaka.woodfordschools.net
SUMMARY:End of Extra Curricular Activities
DESCRIPTION:
URL:https://lusaka.woodfordschools.net/event/end-of-extra-curricular-activities-9/
END:VEVENT
BEGIN:VEVENT
DTSTART;TZID=Europe/Helsinki:20260328T080000
DTEND;TZID=Europe/Helsinki:20260328T170000
DTSTAMP:20260424T021059
CREATED:20260115T075841Z
LAST-MODIFIED:20260115T075841Z
UID:6618-1774684800-1774717200@lusaka.woodfordschools.net
SUMMARY:PTA - Family Fitness Day
DESCRIPTION:
URL:https://lusaka.woodfordschools.net/event/pta-family-fitness-day-4/
END:VEVENT
BEGIN:VEVENT
DTSTART;TZID=Europe/Helsinki:20260328T080000
DTEND;TZID=Europe/Helsinki:20260328T170000
DTSTAMP:20260424T021059
CREATED:20260115T075910Z
LAST-MODIFIED:20260115T075910Z
UID:6620-1774684800-1774717200@lusaka.woodfordschools.net
SUMMARY:U9\, U11 & U13 – Netball – Martin House
DESCRIPTION:
URL:https://lusaka.woodfordschools.net/event/u9-u11-u13-netball-martin-house/
END:VEVENT
BEGIN:VEVENT
DTSTART;TZID=Europe/Helsinki:20260402T080000
DTEND;TZID=Europe/Helsinki:20260402T170000
DTSTAMP:20260424T021059
CREATED:20260115T080532Z
LAST-MODIFIED:20260115T080532Z
UID:6623-1775116800-1775149200@lusaka.woodfordschools.net
SUMMARY:World Autism  Awareness  Day
DESCRIPTION:
URL:https://lusaka.woodfordschools.net/event/world-autism-awareness-day/
END:VEVENT
BEGIN:VEVENT
DTSTART;TZID=Europe/Helsinki:20260403T080000
DTEND;TZID=Europe/Helsinki:20260403T170000
DTSTAMP:20260424T021059
CREATED:20260115T080603Z
LAST-MODIFIED:20260115T080603Z
UID:6622-1775203200-1775235600@lusaka.woodfordschools.net
SUMMARY:Public Holiday – Good Friday
DESCRIPTION:
URL:https://lusaka.woodfordschools.net/event/public-holiday-good-friday-7/
END:VEVENT
BEGIN:VEVENT
DTSTART;TZID=Europe/Helsinki:20260406T080000
DTEND;TZID=Europe/Helsinki:20260406T170000
DTSTAMP:20260424T021059
CREATED:20260115T080650Z
LAST-MODIFIED:20260115T080650Z
UID:6626-1775462400-1775494800@lusaka.woodfordschools.net
SUMMARY:Public Holiday – Easter Monday
DESCRIPTION:
URL:https://lusaka.woodfordschools.net/event/public-holiday-easter-monday-7/
CATEGORIES:Public Holidays
END:VEVENT
BEGIN:VEVENT
DTSTART;TZID=Europe/Helsinki:20260408T140000
DTEND;TZID=Europe/Helsinki:20260408T170000
DTSTAMP:20260424T021059
CREATED:20260115T080727Z
LAST-MODIFIED:20260115T080727Z
UID:6628-1775656800-1775667600@lusaka.woodfordschools.net
SUMMARY:End of term overview meeting
DESCRIPTION:
URL:https://lusaka.woodfordschools.net/event/end-of-term-overview-meeting/
END:VEVENT
BEGIN:VEVENT
DTSTART;TZID=Europe/Helsinki:20260409T080000
DTEND;TZID=Europe/Helsinki:20260409T170000
DTSTAMP:20260424T021059
CREATED:20260115T080814Z
LAST-MODIFIED:20260316T141712Z
UID:6630-1775721600-1775754000@lusaka.woodfordschools.net
SUMMARY:School closes for April Vacation
DESCRIPTION:
URL:https://lusaka.woodfordschools.net/event/school-closes-for-april-vacation/
END:VEVENT
BEGIN:VEVENT
DTSTART;TZID=Europe/Helsinki:20260410T080000
DTEND;TZID=Europe/Helsinki:20260410T170000
DTSTAMP:20260424T021059
CREATED:20260115T080840Z
LAST-MODIFIED:20260115T080840Z
UID:6632-1775808000-1775840400@lusaka.woodfordschools.net
SUMMARY:Parent –Teacher Consultations
DESCRIPTION:
URL:https://lusaka.woodfordschools.net/event/parent-teacher-consultations-3/
END:VEVENT
BEGIN:VEVENT
DTSTART;TZID=Europe/Helsinki:20260413T080000
DTEND;TZID=Europe/Helsinki:20260418T170000
DTSTAMP:20260424T021059
CREATED:20260115T080953Z
LAST-MODIFIED:20260115T080953Z
UID:6634-1776067200-1776531600@lusaka.woodfordschools.net
SUMMARY:Grade 7 Trip to Victoria Falls Region
DESCRIPTION:
URL:https://lusaka.woodfordschools.net/event/grade-7-trip-to-victoria-falls-region-6/
END:VEVENT
BEGIN:VEVENT
DTSTART;TZID=Europe/Helsinki:20260418T080000
DTEND;TZID=Europe/Helsinki:20260418T170000
DTSTAMP:20260424T021059
CREATED:20260115T081048Z
LAST-MODIFIED:20260115T081048Z
UID:6636-1776499200-1776531600@lusaka.woodfordschools.net
SUMMARY:ISAZ Early Years Conference - ISL
DESCRIPTION:
URL:https://lusaka.woodfordschools.net/event/isaz-early-years-conference-isl/
END:VEVENT
BEGIN:VEVENT
DTSTART;TZID=Europe/Helsinki:20260427T080000
DTEND;TZID=Europe/Helsinki:20260427T170000
DTSTAMP:20260424T021059
CREATED:20260115T081247Z
LAST-MODIFIED:20260115T081247Z
UID:6640-1777276800-1777309200@lusaka.woodfordschools.net
SUMMARY:Start of Holiday remedial lessons and extra lessons for Grade 7 students
DESCRIPTION:
URL:https://lusaka.woodfordschools.net/event/start-of-holiday-remedial-lessons-and-extra-lessons-for-grade-7-students-2/
END:VEVENT
BEGIN:VEVENT
DTSTART;TZID=Europe/Helsinki:20260428T080000
DTEND;TZID=Europe/Helsinki:20260428T170000
DTSTAMP:20260424T021059
CREATED:20260115T081208Z
LAST-MODIFIED:20260115T081208Z
UID:6638-1777363200-1777395600@lusaka.woodfordschools.net
SUMMARY:Public Holiday - Kenneth Kaunda Day
DESCRIPTION:
URL:https://lusaka.woodfordschools.net/event/public-holiday-kenneth-kaunda-day-5/
CATEGORIES:Public Holidays
END:VEVENT
END:VCALENDAR